BEGIN:VCALENDAR
VERSION:2.0
PRODID:-//hacksw/handcal//NONSGML v1.0//EN
BEGIN:VEVENT
SUMMARY:CHAMPIONNAT
UID:f3ff960e-7988-409b-a214-7e95ad69e652
DTSTART:20260406T110000Z
DTEND:20260406T124500Z
LOCATION:Localisation   
CATEGORIES:Sportif
STATUS:
DESCRIPTION:<p>FC EBLANGE 2 - OEUTRANGE 2</p>
URL;VALUE=URI:https://fceblange.sportsregions.fr/evenements/2026/04/06/championnat-2440745
END:VEVENT
END:VCALENDAR
