BEGIN:VCALENDAR
VERSION:2.0
PRODID:-//hacksw/handcal//NONSGML v1.0//EN
BEGIN:VEVENT
SUMMARY:CHAMPIONNAT
UID:ee8313ab-dde0-45b8-9b26-ee3eb0f05e7d
DTSTART:20260426T130000Z
DTEND:20260426T144500Z
LOCATION:Localisation   
CATEGORIES:Sportif
STATUS:
DESCRIPTION:<p>FILSTROFF 2 - FC EBLANGE 2</p>
URL;VALUE=URI:https://fceblange.sportsregions.fr/evenements/2026/04/26/championnat-2423626
END:VEVENT
END:VCALENDAR
