BEGIN:VCALENDAR
VERSION:2.0
PRODID:-//hacksw/handcal//NONSGML v1.0//EN
BEGIN:VEVENT
SUMMARY:CHAMPIONNAT
UID:7753793b-b959-4216-b0e6-50bd914453ac
DTSTART:20260510T130000Z
DTEND:20260510T144500Z
LOCATION:Localisation   
CATEGORIES:Sportif
STATUS:
DESCRIPTION:<p>VOELFLING 2 - FC EBLANGE 1</p>
URL;VALUE=URI:https://fceblange.sportsregions.fr/evenements/2026/05/10/championnat-2423617
END:VEVENT
END:VCALENDAR
