BEGIN:VCALENDAR
VERSION:2.0
PRODID:-//hacksw/handcal//NONSGML v1.0//EN
BEGIN:VEVENT
SUMMARY:CHAMPIONNAT
UID:5b0e5898-855a-4a36-aed7-1980e5504eb1
DTSTART:20260517T130000Z
DTEND:20260517T144500Z
LOCATION:Localisation   
CATEGORIES:Sportif
STATUS:
DESCRIPTION:<p>FC EBLANGE 1 - HESTROFF 1</p>
URL;VALUE=URI:https://fceblange.sportsregions.fr/evenements/2026/05/17/championnat-2423618
END:VEVENT
END:VCALENDAR
